BEGIN:VCALENDAR
VERSION:2.0
PRODID:icalendar-ruby
CALSCALE:GREGORIAN
METHOD:PUBLISH
BEGIN:VEVENT
DTSTAMP:20260425T111224Z
UID:8-853679@cccknoxville.org
DTSTART:20260927T220000Z
DTEND:20260928T000000Z
CLASS:PUBLIC
CREATED:20260424T214616
DESCRIPTION:Junior and Senior High meet on Sundays from 6:00pm-8:00pm! We h
 ang out\, play games\, do bible studies\, and eat together!
LAST-MODIFIED:20260424T214616
LOCATION:1411 Lantana Ln. NW\, Knoxville\, TN 37912
SUMMARY:Sunday Night Youth Group
URL;VALUE=URI:https://www.cccknoxville.com/events/sunday-night-youth-group/
 2026-09-27
ATTACH;FILENAME=dRVa.jpg;FMTTYPE=image/jpeg:https://dq5pwpg1q8ru0.cloudfron
 t.net/2022/10/03/13/33/09/2c3d1586-2dcc-4f53-b0ec-6a7d782185bb/dRVa.jpg
END:VEVENT
END:VCALENDAR
