BEGIN:VCALENDAR
VERSION:2.0
PRODID:icalendar-ruby
CALSCALE:GREGORIAN
METHOD:PUBLISH
BEGIN:VEVENT
DTSTAMP:20260421T000518Z
UID:10-838734@cccknoxville.org
DTSTART:20260930T220000Z
DTEND:20260930T230000Z
CLASS:PUBLIC
CREATED:20260420T174830
DESCRIPTION:Come join us for our weekly Wednesday Night bible study! 
LAST-MODIFIED:20260420T174830
LOCATION:1411 Lantana Ln. NW\, Knoxville\, TN 37912
SUMMARY:Weekly Bible Study
URL;VALUE=URI:https://www.cccknoxville.com/events/weekly-bible-study/2026-0
 9-30
ATTACH;FILENAME=TMzc.jpg;FMTTYPE=image/jpeg:https://dq5pwpg1q8ru0.cloudfron
 t.net/2022/10/03/13/46/06/b6e532d5-be3a-402b-9911-35ac25134597/TMzc.jpg
END:VEVENT
END:VCALENDAR
